BEGIN:VCALENDAR
VERSION:2.0
PRODID:-//Framework - ECPv6.15.20//NONSGML v1.0//EN
CALSCALE:GREGORIAN
METHOD:PUBLISH
X-WR-CALNAME:Framework
X-ORIGINAL-URL:https://webdisk.thisisframework.com
X-WR-CALDESC:Events for Framework
REFRESH-INTERVAL;VALUE=DURATION:PT1H
X-Robots-Tag:noindex
X-PUBLISHED-TTL:PT1H
BEGIN:VTIMEZONE
TZID:America/Los_Angeles
BEGIN:DAYLIGHT
TZOFFSETFROM:-0800
TZOFFSETTO:-0700
TZNAME:PDT
DTSTART:20250309T100000
END:DAYLIGHT
BEGIN:STANDARD
TZOFFSETFROM:-0700
TZOFFSETTO:-0800
TZNAME:PST
DTSTART:20251102T090000
END:STANDARD
BEGIN:DAYLIGHT
TZOFFSETFROM:-0800
TZOFFSETTO:-0700
TZNAME:PDT
DTSTART:20260308T100000
END:DAYLIGHT
BEGIN:STANDARD
TZOFFSETFROM:-0700
TZOFFSETTO:-0800
TZNAME:PST
DTSTART:20261101T090000
END:STANDARD
BEGIN:DAYLIGHT
TZOFFSETFROM:-0800
TZOFFSETTO:-0700
TZNAME:PDT
DTSTART:20270314T100000
END:DAYLIGHT
BEGIN:STANDARD
TZOFFSETFROM:-0700
TZOFFSETTO:-0800
TZNAME:PST
DTSTART:20271107T090000
END:STANDARD
END:VTIMEZONE
BEGIN:VEVENT
DTSTART;TZID=America/Los_Angeles:20260502T000000
DTEND;TZID=America/Los_Angeles:20260502T235959
DTSTAMP:20260421T191154
CREATED:20251114T180040Z
LAST-MODIFIED:20260402T173931Z
UID:5183-1777680000-1777766399@webdisk.thisisframework.com
SUMMARY:Disco Lines
DESCRIPTION:
URL:https://webdisk.thisisframework.com/event/disco-lines/
LOCATION:Exposition Park\, 700 Exposition Park Drive\, Los Angeles\, CA\, 90037\, United States
CATEGORIES:Framework
ATTACH;FMTTYPE=image/jpeg:https://webdisk.thisisframework.com/wp-content/uploads/2025/11/0502-LosAngeles-DiscoLines-1080x1350-1-1.jpg
END:VEVENT
BEGIN:VEVENT
DTSTART;TZID=America/Los_Angeles:20260509T000000
DTEND;TZID=America/Los_Angeles:20260509T000000
DTSTAMP:20260421T191154
CREATED:20260408T150012Z
LAST-MODIFIED:20260421T191109Z
UID:6002-1778284800-1778284800@webdisk.thisisframework.com
SUMMARY:Kidz Deez Daze
DESCRIPTION:
URL:https://webdisk.thisisframework.com/event/kidz-deez-daze/
LOCATION:The Spotlight\, 1601 N Cahuenga Blvd\, Hollywoood\, CA\, 90028\, United States
CATEGORIES:spotlight
END:VEVENT
BEGIN:VEVENT
DTSTART;TZID=America/Los_Angeles:20260509T170000
DTEND;TZID=America/Los_Angeles:20260510T000000
DTSTAMP:20260421T191154
CREATED:20260210T175501Z
LAST-MODIFIED:20260212T200958Z
UID:5655-1778346000-1778371200@webdisk.thisisframework.com
SUMMARY:&Me
DESCRIPTION:
URL:https://webdisk.thisisframework.com/event/me/
LOCATION:Cabrillo Beach\, 3720 Stephen S. White Drive\, San Pedro\, CA\, 90731\, United States
CATEGORIES:Framework
ATTACH;FMTTYPE=image/png:https://webdisk.thisisframework.com/wp-content/uploads/2026/02/4-5-LA.png
END:VEVENT
BEGIN:VEVENT
DTSTART;TZID=America/Los_Angeles:20260528T000000
DTEND;TZID=America/Los_Angeles:20260528T235959
DTSTAMP:20260421T191154
CREATED:20260316T181709Z
LAST-MODIFIED:20260316T231749Z
UID:5885-1779926400-1780012799@webdisk.thisisframework.com
SUMMARY:Kaleena Zanders
DESCRIPTION:
URL:https://webdisk.thisisframework.com/event/kaleena-zanders/
LOCATION:The Spotlight\, 1601 N Cahuenga Blvd\, Hollywoood\, CA\, 90028\, United States
CATEGORIES:spotlight
END:VEVENT
BEGIN:VEVENT
DTSTART;TZID=America/Los_Angeles:20260530T180000
DTEND;TZID=America/Los_Angeles:20260531T000000
DTSTAMP:20260421T191154
CREATED:20260223T210137Z
LAST-MODIFIED:20260316T231830Z
UID:5747-1780164000-1780185600@webdisk.thisisframework.com
SUMMARY:Enter The Realm Gorgon City
DESCRIPTION:
URL:https://webdisk.thisisframework.com/event/enter-the-realm-gorgon-city/
LOCATION:Reframe Studios Outdoors\, 4594 Electronics Pl\, Los Angeles\, CA\, 90039\, United States
CATEGORIES:Framework
ATTACH;FMTTYPE=image/jpeg:https://webdisk.thisisframework.com/wp-content/uploads/2026/02/ETR-LA-2026Feed-scaled.jpg
END:VEVENT
BEGIN:VEVENT
DTSTART;TZID=America/Los_Angeles:20260606T100000
DTEND;TZID=America/Los_Angeles:20260809T020000
DTSTAMP:20260421T191154
CREATED:20260313T211451Z
LAST-MODIFIED:20260421T193218Z
UID:5859-1780740000-1786240800@webdisk.thisisframework.com
SUMMARY:Gin Ling Way Summer 2026 Series Pass
DESCRIPTION:
URL:https://webdisk.thisisframework.com/event/gin-ling-way-summer-2026-series/
LOCATION:Gin Ling Way\, 954 N. Hill Street\, Los Angeles\, 90012\, United States
CATEGORIES:Framework
ATTACH;FMTTYPE=image/jpeg:https://webdisk.thisisframework.com/wp-content/uploads/2026/03/Gin-Ling-Way-series-2026_PORTRAIT.jpg
END:VEVENT
BEGIN:VEVENT
DTSTART;TZID=America/Los_Angeles:20260606T180000
DTEND;TZID=America/Los_Angeles:20260607T000000
DTSTAMP:20260421T191154
CREATED:20260316T180259Z
LAST-MODIFIED:20260320T155905Z
UID:5870-1780768800-1780790400@webdisk.thisisframework.com
SUMMARY:Deep House Bible
DESCRIPTION:
URL:https://webdisk.thisisframework.com/event/deep-house-bible/
LOCATION:Gin Ling Way\, 954 N. Hill Street\, Los Angeles\, 90012\, United States
CATEGORIES:Framework
ATTACH;FMTTYPE=image/jpeg:https://webdisk.thisisframework.com/wp-content/uploads/2026/03/060626-DHB_PORTRAIT-1.jpg
END:VEVENT
BEGIN:VEVENT
DTSTART;TZID=America/Los_Angeles:20260619T000000
DTEND;TZID=America/Los_Angeles:20260619T235959
DTSTAMP:20260421T191154
CREATED:20260202T180020Z
LAST-MODIFIED:20260212T230554Z
UID:5563-1781827200-1781913599@webdisk.thisisframework.com
SUMMARY:Chris Lake
DESCRIPTION:
URL:https://webdisk.thisisframework.com/event/chris-lake/
LOCATION:LA State Historic Park\, 1245 N Spring St\, Los Angeles\, CA\, 90066\, United States
CATEGORIES:Framework
ATTACH;FMTTYPE=image/jpeg:https://webdisk.thisisframework.com/wp-content/uploads/2026/02/0619-20-LosAngeles-ChrisLake-1080x1350-1.jpg
END:VEVENT
BEGIN:VEVENT
DTSTART;TZID=America/Los_Angeles:20260620T000000
DTEND;TZID=America/Los_Angeles:20260620T235959
DTSTAMP:20260421T191154
CREATED:20260205T183854Z
LAST-MODIFIED:20260212T230641Z
UID:5614-1781913600-1781999999@webdisk.thisisframework.com
SUMMARY:Chris Lake (Second Date Added!)
DESCRIPTION:
URL:https://webdisk.thisisframework.com/event/chris-lake-second-date-added/
LOCATION:LA State Historic Park\, 1245 N Spring St\, Los Angeles\, CA\, 90066\, United States
CATEGORIES:Framework
ATTACH;FMTTYPE=image/jpeg:https://webdisk.thisisframework.com/wp-content/uploads/2026/02/0619-20-LosAngeles-ChrisLake-1080x1350-1.jpg
END:VEVENT
BEGIN:VEVENT
DTSTART;TZID=America/Los_Angeles:20260711T180000
DTEND;TZID=America/Los_Angeles:20260712T000000
DTSTAMP:20260421T191154
CREATED:20260316T180453Z
LAST-MODIFIED:20260320T155953Z
UID:5874-1783792800-1783814400@webdisk.thisisframework.com
SUMMARY:SG Lewis (Open to Close)
DESCRIPTION:
URL:https://webdisk.thisisframework.com/event/sg-lewis/
LOCATION:Gin Ling Way\, 954 N. Hill Street\, Los Angeles\, 90012\, United States
CATEGORIES:Framework
ATTACH;FMTTYPE=image/jpeg:https://webdisk.thisisframework.com/wp-content/uploads/2026/03/071126-SG-Lewis_PORTRAIT-1.jpg
END:VEVENT
BEGIN:VEVENT
DTSTART;TZID=America/Los_Angeles:20260808T000000
DTEND;TZID=America/Los_Angeles:20260808T235959
DTSTAMP:20260421T191154
CREATED:20260317T170016Z
LAST-MODIFIED:20260320T160047Z
UID:5887-1786147200-1786233599@webdisk.thisisframework.com
SUMMARY:Carlita
DESCRIPTION:
URL:https://webdisk.thisisframework.com/event/carlita/
LOCATION:Gin Ling Way\, 954 N. Hill Street\, Los Angeles\, 90012\, United States
CATEGORIES:Framework
ATTACH;FMTTYPE=image/jpeg:https://webdisk.thisisframework.com/wp-content/uploads/2026/03/080826-Carlita_PORTRAIT.jpg
END:VEVENT
BEGIN:VEVENT
DTSTART;TZID=America/Los_Angeles:20261003T080000
DTEND;TZID=America/Los_Angeles:20261003T170000
DTSTAMP:20260421T191154
CREATED:20260210T155054Z
LAST-MODIFIED:20260316T221926Z
UID:5637-1791014400-1791046800@webdisk.thisisframework.com
SUMMARY:The Soulection Experience: 15 Year Anniversary
DESCRIPTION:
URL:https://webdisk.thisisframework.com/event/soulection-15-year-anniversary/
LOCATION:Reframe Studios Outdoors\, 4594 Electronics Pl\, Los Angeles\, CA\, 90039\, United States
CATEGORIES:Framework
ATTACH;FMTTYPE=image/jpeg:https://webdisk.thisisframework.com/wp-content/uploads/2026/02/4x5_revised_LOSANGELES-Soulection-15-Years_lastupdated2.5.26.jpg
END:VEVENT
END:VCALENDAR